BEGIN:VCALENDAR
PRODID:-//kirchenweb.ch gmbh//veranstaltungsausgabe v2.0//DE
VERSION:2.0
METHOD:PUBLISH
BEGIN:VEVENT
DTSTART:20250310T080000Z
DTEND:20250310T090000Z
LOCATION:Alterssiedlung Bergholz\, Bergholzstrasse 16a\, 9500 Wil
TRANSP:OPAQUE
SEQUENCE:0
UID:63514-veranstaltung@ref-wil.ch
DTSTAMP:20250207T070615Z
DESCRIPTION:Kontakt: Walter Hürzeler\n\nWeitere Infos:
  https://www.ref-wil.ch/veranstaltung/63514
SUMMARY:Gottesdienst Bergholz
PRIORITY:5
X-MICROSOFT-CDO-IMPORTANCE:1
CLASS:PUBLIC
END:VEVENT
END:VCALENDAR
