BEGIN:VCALENDAR
PRODID:-//kirchenweb.ch gmbh//veranstaltungsausgabe v2.0//DE
VERSION:2.0
METHOD:PUBLISH
BEGIN:VEVENT
DTSTART:20250321T190000Z
DTEND:20250321T203000Z
LOCATION:Kirchgemeindehaus Wil\, \,
TRANSP:OPAQUE
SEQUENCE:0
UID:63487-veranstaltung@ref-wil.ch
DTSTAMP:20250106T104349Z
DESCRIPTION:Kontakt: Jeanette Pfister\, diakonische Mitarbeiterin\n
 \nWeitere Infos: https://www.ref-wil.ch/veranstaltung/63487
SUMMARY:Elternkurs: Autonomie stärken und Glaube fördern
PRIORITY:5
X-MICROSOFT-CDO-IMPORTANCE:1
CLASS:PUBLIC
END:VEVENT
END:VCALENDAR
