BEGIN:VCALENDAR
PRODID:-//kirchenweb.ch gmbh//veranstaltungsausgabe v2.0//DE
VERSION:2.0
METHOD:PUBLISH
BEGIN:VEVENT
DTSTART:20250319T103000Z
DTEND:20250319T113000Z
LOCATION:Kirchgemeindehaus Wil\, Toggenburgerstrasse 50\, 9500 Wil
TRANSP:OPAQUE
SEQUENCE:0
UID:63459-veranstaltung@ref-wil.ch
DTSTAMP:20241010T125004Z
DESCRIPTION:Einmal im Monat gibt es ein Mittagessen für alle Generationen
  von 11.30 - 13.00 Uhr. Sie können günstig für Fr. 10.- ein feines
  Mittagessen (inkl. Dessert und Getränk) in Gemeinschaft geniessen.
  Kinder bezahlen einen angepassten Preis. \nFür Kinder von 4-8 Jahren
  findet ab 13.30 Uhr ein Kinderprogramm statt.\n\n\n\n\n\nKontakt:
  Jeanette Pfister\, diakonische Mitarbeiterin\n\nWeitere Infos:
  https://www.ref-wil.ch/veranstaltung/63459
SUMMARY:Mittwoch z'Mittag
PRIORITY:5
X-MICROSOFT-CDO-IMPORTANCE:1
CLASS:PUBLIC
END:VEVENT
END:VCALENDAR
