BEGIN:VCALENDAR
PRODID:-//kirchenweb.ch gmbh//veranstaltungsausgabe v2.0//DE
VERSION:2.0
METHOD:PUBLISH
BEGIN:VEVENT
DTSTART:20250323T090100Z
DTEND:20250323T101500Z
LOCATION:Mesmerhuus Wil\, Toggenburgerstrasse 50\, 9500 Wil
TRANSP:OPAQUE
SEQUENCE:0
UID:63266-veranstaltung@ref-wil.ch
DTSTAMP:20240917T070204Z
DESCRIPTION:Der Kindertreff findet jeden Sonntag parallel zum Gottesdienst
  im Mesmerhuus statt. Das Programm ist für Kinder von 4 - 10 Jahren. Die
  Kleinkinder werden und der Chinderhüti betreut. \n\nKontakt: Jeanette
  Pfister\, diakonische Mitarbeiterin\n\nWeitere Infos:
  https://www.ref-wil.ch/veranstaltung/63266
SUMMARY:Kindertreff
PRIORITY:5
X-MICROSOFT-CDO-IMPORTANCE:1
CLASS:PUBLIC
END:VEVENT
END:VCALENDAR
