BEGIN:VCALENDAR
PRODID:-//kirchenweb.ch gmbh//veranstaltungsausgabe v2.0//DE
VERSION:2.0
METHOD:PUBLISH
BEGIN:VEVENT
DTSTART:20250302T090100Z
DTEND:20250302T100100Z
LOCATION:Mesmerhuus Wil\, Toggenburgerstrasse 50\, 9500 Wil
TRANSP:OPAQUE
SEQUENCE:0
UID:63214-veranstaltung@ref-wil.ch
DTSTAMP:20240917T065927Z
DESCRIPTION:Kleinkinder bis 4 Jahre werden während dem Gottesdienst
  betreut.\n\nKontakt: Jeanette Pfister\, diakonische Mitarbeiterin\n
 \nWeitere Infos: https://www.ref-wil.ch/veranstaltung/63214
SUMMARY:Chinderhüeti
PRIORITY:5
X-MICROSOFT-CDO-IMPORTANCE:1
CLASS:PUBLIC
END:VEVENT
END:VCALENDAR
