BEGIN:VCALENDAR
PRODID:-//kirchenweb.ch gmbh//veranstaltungsausgabe v2.0//DE
VERSION:2.0
METHOD:PUBLISH
BEGIN:VEVENT
DTSTART:20250314T050000Z
DTEND:20250314T060000Z
LOCATION:Gebetshaus Wil\, Hubstrasse 18\, 9500 Wil
TRANSP:OPAQUE
SEQUENCE:0
UID:62707-veranstaltung@ref-wil.ch
DTSTAMP:20240902T143244Z
DESCRIPTION:Adresse: Hubstrasse 18\, 9500 Wil\n\nKontakt: Thomas Gugger\,
  Diakon\n\nWeitere Infos: https://www.ref-wil.ch/veranstaltung/62707
SUMMARY:Stadtgebet
PRIORITY:5
X-MICROSOFT-CDO-IMPORTANCE:1
CLASS:PUBLIC
END:VEVENT
END:VCALENDAR
