BEGIN:VCALENDAR
PRODID:-//kirchenweb.ch gmbh//veranstaltungsausgabe v2.0//DE
VERSION:2.0
METHOD:PUBLISH
BEGIN:VEVENT
DTSTART:20250304T130000Z
DTEND:20250304T140000Z
LOCATION:Kirchgemeindehaus\, Toggenburgerstrasse 50\, 9500 Wil
TRANSP:OPAQUE
SEQUENCE:0
UID:62591-veranstaltung@ref-wil.ch
DTSTAMP:20240902T133405Z
DESCRIPTION:\n\nKontakt: irene.sprenger@ref-wil.ch\n\nWeitere Infos:
  https://www.ref-wil.ch/veranstaltung/62591
SUMMARY:Frauenverein: Handarbeiten
PRIORITY:5
X-MICROSOFT-CDO-IMPORTANCE:1
CLASS:PUBLIC
END:VEVENT
END:VCALENDAR
