BEGIN:VCALENDAR
PRODID:-//kirchenweb.ch gmbh//veranstaltungsausgabe v2.0//DE
VERSION:2.0
METHOD:PUBLISH
BEGIN:VEVENT
DTSTART:20250401T173000Z
DTEND:20250401T190000Z
LOCATION:Triangel Zuzwil\, Unterdorfstrasse 7\, 9524 Zuzwil
TRANSP:OPAQUE
SEQUENCE:0
UID:62472-veranstaltung@ref-wil.ch
DTSTAMP:20250401T142214Z
DESCRIPTION:Kontakt: Marcel Wildi\, Pfarrer\n\nWeitere Infos:
  https://www.ref-wil.ch/veranstaltung/62472
SUMMARY:Triangelkino Zuzwil – Film & Gespräch Verschoben auf 8. April
  2025
PRIORITY:5
X-MICROSOFT-CDO-IMPORTANCE:1
CLASS:PUBLIC
END:VEVENT
END:VCALENDAR
