BEGIN:VCALENDAR
PRODID:-//kirchenweb.ch gmbh//veranstaltungsausgabe v2.0//DE
VERSION:2.0
METHOD:PUBLISH
BEGIN:VEVENT
DTSTART:20250217T183000Z
DTEND:20250217T193000Z
LOCATION:Kirchgemeindehaus Wil\, Toggenburgerstrasse 50\, 9500 Wil
TRANSP:OPAQUE
SEQUENCE:0
UID:62375-veranstaltung@ref-wil.ch
DTSTAMP:20250204T093859Z
DESCRIPTION:Kontakt: Markus Lohner\, Pfarrer\n\nWeitere Infos:
  https://www.ref-wil.ch/veranstaltung/62375
SUMMARY:Biblische Wegweiser zur Situation in Israel
PRIORITY:5
X-MICROSOFT-CDO-IMPORTANCE:1
CLASS:PUBLIC
END:VEVENT
END:VCALENDAR
