BEGIN:VCALENDAR
PRODID:-//kirchenweb.ch gmbh//veranstaltungsausgabe v2.0//DE
VERSION:2.0
METHOD:PUBLISH
BEGIN:VEVENT
DTSTART:20250216T100000Z
DTEND:20250216T120000Z
LOCATION:Kirchgemeindehaus Wil\, Toggenburgerstrasse 50\, 9500 Wil
TRANSP:OPAQUE
SEQUENCE:0
UID:62350-veranstaltung@ref-wil.ch
DTSTAMP:20240621T113811Z
DESCRIPTION:\n\nKontakt: Max Schoch\, Diakon\n\nWeitere Infos:
  https://www.ref-wil.ch/veranstaltung/62350
SUMMARY:Kirchenkaffee nach dem Gottesdienst
PRIORITY:5
X-MICROSOFT-CDO-IMPORTANCE:1
CLASS:PUBLIC
END:VEVENT
END:VCALENDAR
