BEGIN:VCALENDAR
PRODID:-//kirchenweb.ch gmbh//veranstaltungsausgabe v2.0//DE
VERSION:2.0
METHOD:PUBLISH
BEGIN:VEVENT
DTSTART:20250408T110000Z
DTEND:20250408T160000Z
LOCATION:Kirchgemeindehaus Wil\, Toggenburgerstrasse 50\, 9500 Wil
TRANSP:OPAQUE
SEQUENCE:0
UID:62246-veranstaltung@ref-wil.ch
DTSTAMP:20250408T133559Z
DESCRIPTION:Kontakt: Jeanette Pfister\, diakonische Mitarbeiterin\n
 \nWeitere Infos: https://www.ref-wil.ch/veranstaltung/62246
SUMMARY:Kindertage
PRIORITY:5
X-MICROSOFT-CDO-IMPORTANCE:1
CLASS:PUBLIC
END:VEVENT
END:VCALENDAR
