BEGIN:VCALENDAR
PRODID:-//kirchenweb.ch gmbh//veranstaltungsausgabe v2.0//DE
VERSION:2.0
METHOD:PUBLISH
BEGIN:VEVENT
DTSTART:20260228T130000Z
DTEND:20260228T150000Z
LOCATION:Kirchgemeindehaus Wil\, Toggenburgerstrasse 50\, 9500 Wil
TRANSP:OPAQUE
SEQUENCE:0
UID:62225-veranstaltung@ref-wil.ch
DTSTAMP:20260108T093613Z
DESCRIPTION:\n\nKontakt: Max Schoch\, Diakon\n\nWeitere Infos:
  https://www.ref-wil.ch/veranstaltung/62225
SUMMARY:Stubete:  mit der Seniorenbühne Frauenfeld
PRIORITY:5
X-MICROSOFT-CDO-IMPORTANCE:1
CLASS:PUBLIC
END:VEVENT
END:VCALENDAR
