BEGIN:VCALENDAR
PRODID:-//kirchenweb.ch gmbh//veranstaltungsausgabe v2.0//DE
VERSION:2.0
METHOD:PUBLISH
BEGIN:VEVENT
DTSTART:20250404T160000Z
DTEND:20250404T200000Z
LOCATION:ab Kirche St. Peter\, Liebfrauenkapelle\, \,
TRANSP:OPAQUE
SEQUENCE:0
UID:62017-veranstaltung@ref-wil.ch
DTSTAMP:20250326T172058Z
DESCRIPTION:Kontakt: Bettina Birkner\, Pfarrerin\n\nWeitere Infos:
  https://www.ref-wil.ch/veranstaltung/62017
SUMMARY:6. ökumenischer Passionsweg
PRIORITY:5
X-MICROSOFT-CDO-IMPORTANCE:1
CLASS:PUBLIC
END:VEVENT
END:VCALENDAR
