BEGIN:VCALENDAR
PRODID:-//kirchenweb.ch gmbh//veranstaltungsausgabe v2.0//DE
VERSION:2.0
METHOD:PUBLISH
BEGIN:VEVENT
DTSTART:20250222T130000Z
DTEND:20250222T150000Z
LOCATION:Kirchgemeindehaus Wil\, Toggenburgerstrasse 50\, 9500 Wil
TRANSP:OPAQUE
SEQUENCE:0
UID:61237-veranstaltung@ref-wil.ch
DTSTAMP:20241202T140403Z
DESCRIPTION:\n\nKontakt: irene.sprenger@ref-wil.ch\n\nWeitere Infos:
  https://www.ref-wil.ch/veranstaltung/61237
SUMMARY:Stubete mit Pfarrer Christhard Birkner
PRIORITY:5
X-MICROSOFT-CDO-IMPORTANCE:1
CLASS:PUBLIC
END:VEVENT
END:VCALENDAR
